BEGIN:VCALENDAR
VERSION:2.0
PRODID:-//Coredump - ECPv6.8.3//NONSGML v1.0//EN
CALSCALE:GREGORIAN
METHOD:PUBLISH
X-WR-CALNAME:Coredump
X-ORIGINAL-URL:https://www.coredump.ch
X-WR-CALDESC:Veranstaltungen für Coredump
REFRESH-INTERVAL;VALUE=DURATION:PT1H
X-Robots-Tag:noindex
X-PUBLISHED-TTL:PT1H
BEGIN:VTIMEZONE
TZID:Europe/Zurich
BEGIN:DAYLIGHT
TZOFFSETFROM:+0100
TZOFFSETTO:+0200
TZNAME:CEST
DTSTART:20250330T010000
END:DAYLIGHT
BEGIN:STANDARD
TZOFFSETFROM:+0200
TZOFFSETTO:+0100
TZNAME:CET
DTSTART:20251026T010000
END:STANDARD
END:VTIMEZONE
BEGIN:VEVENT
DTSTART;TZID=Europe/Zurich:20251221T160000
DTEND;TZID=Europe/Zurich:20251221T230000
DTSTAMP:20260424T144300
CREATED:20251129T122547Z
LAST-MODIFIED:20251129T122547Z
UID:4316-1766332800-1766358000@www.coredump.ch
SUMMARY:King of the Desert VI Finals Streaming@OST
DESCRIPTION:Die sechste Edition des legendären King of the Desert Turniers ist im Gange. Aus diesem Anlass organisieren wir wieder ein Streaming des Finals. \nDie OST wird Pizza zur Verfügung stellen. Meldet euch bitte unter https://nuudel.digitalcourage.de/king-of-the-desert-vi-ost-anmeldung an. Da die Platzverhältnisse begrenzt sind\, sind die Anmeldungen auf 30 Personen limitiert. \nWann: 2025-12-21 – 16:00 – 23:00\nWo: An der OST
URL:https://www.coredump.ch/event/king-of-the-desert-vi-finals-streamingost/
LOCATION:Fachhochschule OST\, Oberseestrasse 10\, Rapperswil\, St. Gallen\, 8640\, Switzerland
CATEGORIES:Gaming
END:VEVENT
END:VCALENDAR