BEGIN:VCALENDAR
VERSION:2.0
PRODID:-//Coredump - ECPv6.8.3//NONSGML v1.0//EN
CALSCALE:GREGORIAN
METHOD:PUBLISH
X-ORIGINAL-URL:https://www.coredump.ch
X-WR-CALDESC:Veranstaltungen für Coredump
REFRESH-INTERVAL;VALUE=DURATION:PT1H
X-Robots-Tag:noindex
X-PUBLISHED-TTL:PT1H
BEGIN:VTIMEZONE
TZID:Europe/Zurich
BEGIN:DAYLIGHT
TZOFFSETFROM:+0100
TZOFFSETTO:+0200
TZNAME:CEST
DTSTART:20230326T010000
END:DAYLIGHT
BEGIN:STANDARD
TZOFFSETFROM:+0200
TZOFFSETTO:+0100
TZNAME:CET
DTSTART:20231029T010000
END:STANDARD
END:VTIMEZONE
BEGIN:VEVENT
DTSTART;TZID=Europe/Zurich:20230501T200000
DTEND;TZID=Europe/Zurich:20230501T234500
DTSTAMP:20260426T021137
CREATED:20221002T215433Z
LAST-MODIFIED:20221002T215433Z
UID:3515-1682971200-1682984700@www.coredump.ch
SUMMARY:Weekly Hacknight
DESCRIPTION:Wir treffen uns in der Regel ab etwa 20 Uhr in unserem Vereinsraum um spannende Themen zu diskutieren\, an unseren Projekten zu arbeiten\, oder einfach eine Flasche Club Mate oder ein Bier zu trinken. Manchmal sind Leute schon früher vor Ort\, manchmal auch erst etwas später. \nBesucher sind jederzeit willkommen! Eine kurze Voranmeldung an vorstand@coredump.ch ist hilfreich\, jedoch nicht notwendig. \nEine Wegbeschreibung gibt es auf der Kontakt-Seite.
URL:https://www.coredump.ch/event/weekly-hacknight-260/
LOCATION:Coredump (Eichwiesstrasse)\, Eichwiesstrasse 4\, Rapperswil-Jona\, SG\, 8645\, Switzerland
CATEGORIES:Meetings
END:VEVENT
BEGIN:VEVENT
DTSTART;TZID=Europe/Zurich:20230508T200000
DTEND;TZID=Europe/Zurich:20230508T234500
DTSTAMP:20260426T021137
CREATED:20221002T215444Z
LAST-MODIFIED:20221002T215444Z
UID:3517-1683576000-1683589500@www.coredump.ch
SUMMARY:Weekly Hacknight
DESCRIPTION:Wir treffen uns in der Regel ab etwa 20 Uhr in unserem Vereinsraum um spannende Themen zu diskutieren\, an unseren Projekten zu arbeiten\, oder einfach eine Flasche Club Mate oder ein Bier zu trinken. Manchmal sind Leute schon früher vor Ort\, manchmal auch erst etwas später. \nBesucher sind jederzeit willkommen! Eine kurze Voranmeldung an vorstand@coredump.ch ist hilfreich\, jedoch nicht notwendig. \nEine Wegbeschreibung gibt es auf der Kontakt-Seite.
URL:https://www.coredump.ch/event/weekly-hacknight-261/
LOCATION:Coredump (Eichwiesstrasse)\, Eichwiesstrasse 4\, Rapperswil-Jona\, SG\, 8645\, Switzerland
CATEGORIES:Meetings
END:VEVENT
BEGIN:VEVENT
DTSTART;TZID=Europe/Zurich:20230515T200000
DTEND;TZID=Europe/Zurich:20230515T234500
DTSTAMP:20260426T021137
CREATED:20221002T215455Z
LAST-MODIFIED:20221002T215455Z
UID:3519-1684180800-1684194300@www.coredump.ch
SUMMARY:Weekly Hacknight
DESCRIPTION:Wir treffen uns in der Regel ab etwa 20 Uhr in unserem Vereinsraum um spannende Themen zu diskutieren\, an unseren Projekten zu arbeiten\, oder einfach eine Flasche Club Mate oder ein Bier zu trinken. Manchmal sind Leute schon früher vor Ort\, manchmal auch erst etwas später. \nBesucher sind jederzeit willkommen! Eine kurze Voranmeldung an vorstand@coredump.ch ist hilfreich\, jedoch nicht notwendig. \nEine Wegbeschreibung gibt es auf der Kontakt-Seite.
URL:https://www.coredump.ch/event/weekly-hacknight-262/
LOCATION:Coredump (Eichwiesstrasse)\, Eichwiesstrasse 4\, Rapperswil-Jona\, SG\, 8645\, Switzerland
CATEGORIES:Meetings
END:VEVENT
BEGIN:VEVENT
DTSTART;TZID=Europe/Zurich:20230522T200000
DTEND;TZID=Europe/Zurich:20230522T234500
DTSTAMP:20260426T021137
CREATED:20221002T215506Z
LAST-MODIFIED:20221002T215506Z
UID:3521-1684785600-1684799100@www.coredump.ch
SUMMARY:Weekly Hacknight
DESCRIPTION:Wir treffen uns in der Regel ab etwa 20 Uhr in unserem Vereinsraum um spannende Themen zu diskutieren\, an unseren Projekten zu arbeiten\, oder einfach eine Flasche Club Mate oder ein Bier zu trinken. Manchmal sind Leute schon früher vor Ort\, manchmal auch erst etwas später. \nBesucher sind jederzeit willkommen! Eine kurze Voranmeldung an vorstand@coredump.ch ist hilfreich\, jedoch nicht notwendig. \nEine Wegbeschreibung gibt es auf der Kontakt-Seite.
URL:https://www.coredump.ch/event/weekly-hacknight-263/
LOCATION:Coredump (Eichwiesstrasse)\, Eichwiesstrasse 4\, Rapperswil-Jona\, SG\, 8645\, Switzerland
CATEGORIES:Meetings
END:VEVENT
BEGIN:VEVENT
DTSTART;TZID=Europe/Zurich:20230529T200000
DTEND;TZID=Europe/Zurich:20230529T234500
DTSTAMP:20260426T021137
CREATED:20221002T215518Z
LAST-MODIFIED:20221002T215518Z
UID:3523-1685390400-1685403900@www.coredump.ch
SUMMARY:Weekly Hacknight
DESCRIPTION:Wir treffen uns in der Regel ab etwa 20 Uhr in unserem Vereinsraum um spannende Themen zu diskutieren\, an unseren Projekten zu arbeiten\, oder einfach eine Flasche Club Mate oder ein Bier zu trinken. Manchmal sind Leute schon früher vor Ort\, manchmal auch erst etwas später. \nBesucher sind jederzeit willkommen! Eine kurze Voranmeldung an vorstand@coredump.ch ist hilfreich\, jedoch nicht notwendig. \nEine Wegbeschreibung gibt es auf der Kontakt-Seite.
URL:https://www.coredump.ch/event/weekly-hacknight-264/
LOCATION:Coredump (Eichwiesstrasse)\, Eichwiesstrasse 4\, Rapperswil-Jona\, SG\, 8645\, Switzerland
CATEGORIES:Meetings
END:VEVENT
END:VCALENDAR