BEGIN:VCALENDAR
VERSION:2.0
PRODID:-//Coredump - ECPv6.8.3//NONSGML v1.0//EN
CALSCALE:GREGORIAN
METHOD:PUBLISH
X-ORIGINAL-URL:https://www.coredump.ch
X-WR-CALDESC:Veranstaltungen für Coredump
REFRESH-INTERVAL;VALUE=DURATION:PT1H
X-Robots-Tag:noindex
X-PUBLISHED-TTL:PT1H
BEGIN:VTIMEZONE
TZID:Europe/Zurich
BEGIN:DAYLIGHT
TZOFFSETFROM:+0100
TZOFFSETTO:+0200
TZNAME:CEST
DTSTART:20230326T010000
END:DAYLIGHT
BEGIN:STANDARD
TZOFFSETFROM:+0200
TZOFFSETTO:+0100
TZNAME:CET
DTSTART:20231029T010000
END:STANDARD
END:VTIMEZONE
BEGIN:VEVENT
DTSTART;TZID=Europe/Zurich:20230703T200000
DTEND;TZID=Europe/Zurich:20230703T234500
DTSTAMP:20260425T231803
CREATED:20221002T215613Z
LAST-MODIFIED:20221002T215613Z
UID:3533-1688414400-1688427900@www.coredump.ch
SUMMARY:Weekly Hacknight
DESCRIPTION:Wir treffen uns in der Regel ab etwa 20 Uhr in unserem Vereinsraum um spannende Themen zu diskutieren\, an unseren Projekten zu arbeiten\, oder einfach eine Flasche Club Mate oder ein Bier zu trinken. Manchmal sind Leute schon früher vor Ort\, manchmal auch erst etwas später. \nBesucher sind jederzeit willkommen! Eine kurze Voranmeldung an vorstand@coredump.ch ist hilfreich\, jedoch nicht notwendig. \nEine Wegbeschreibung gibt es auf der Kontakt-Seite.
URL:https://www.coredump.ch/event/weekly-hacknight-269/
LOCATION:Coredump (Eichwiesstrasse)\, Eichwiesstrasse 4\, Rapperswil-Jona\, SG\, 8645\, Switzerland
CATEGORIES:Meetings
END:VEVENT
BEGIN:VEVENT
DTSTART;TZID=Europe/Zurich:20230710T200000
DTEND;TZID=Europe/Zurich:20230710T234500
DTSTAMP:20260425T231803
CREATED:20221002T215623Z
LAST-MODIFIED:20221002T215623Z
UID:3535-1689019200-1689032700@www.coredump.ch
SUMMARY:Weekly Hacknight
DESCRIPTION:Wir treffen uns in der Regel ab etwa 20 Uhr in unserem Vereinsraum um spannende Themen zu diskutieren\, an unseren Projekten zu arbeiten\, oder einfach eine Flasche Club Mate oder ein Bier zu trinken. Manchmal sind Leute schon früher vor Ort\, manchmal auch erst etwas später. \nBesucher sind jederzeit willkommen! Eine kurze Voranmeldung an vorstand@coredump.ch ist hilfreich\, jedoch nicht notwendig. \nEine Wegbeschreibung gibt es auf der Kontakt-Seite.
URL:https://www.coredump.ch/event/weekly-hacknight-270/
LOCATION:Coredump (Eichwiesstrasse)\, Eichwiesstrasse 4\, Rapperswil-Jona\, SG\, 8645\, Switzerland
CATEGORIES:Meetings
END:VEVENT
BEGIN:VEVENT
DTSTART;TZID=Europe/Zurich:20230717T200000
DTEND;TZID=Europe/Zurich:20230717T234500
DTSTAMP:20260425T231803
CREATED:20221002T215636Z
LAST-MODIFIED:20221002T215636Z
UID:3537-1689624000-1689637500@www.coredump.ch
SUMMARY:Weekly Hacknight
DESCRIPTION:Wir treffen uns in der Regel ab etwa 20 Uhr in unserem Vereinsraum um spannende Themen zu diskutieren\, an unseren Projekten zu arbeiten\, oder einfach eine Flasche Club Mate oder ein Bier zu trinken. Manchmal sind Leute schon früher vor Ort\, manchmal auch erst etwas später. \nBesucher sind jederzeit willkommen! Eine kurze Voranmeldung an vorstand@coredump.ch ist hilfreich\, jedoch nicht notwendig. \nEine Wegbeschreibung gibt es auf der Kontakt-Seite.
URL:https://www.coredump.ch/event/weekly-hacknight-271/
LOCATION:Coredump (Eichwiesstrasse)\, Eichwiesstrasse 4\, Rapperswil-Jona\, SG\, 8645\, Switzerland
CATEGORIES:Meetings
END:VEVENT
BEGIN:VEVENT
DTSTART;TZID=Europe/Zurich:20230724T200000
DTEND;TZID=Europe/Zurich:20230724T234500
DTSTAMP:20260425T231803
CREATED:20221002T215648Z
LAST-MODIFIED:20221002T215648Z
UID:3539-1690228800-1690242300@www.coredump.ch
SUMMARY:Weekly Hacknight
DESCRIPTION:Wir treffen uns in der Regel ab etwa 20 Uhr in unserem Vereinsraum um spannende Themen zu diskutieren\, an unseren Projekten zu arbeiten\, oder einfach eine Flasche Club Mate oder ein Bier zu trinken. Manchmal sind Leute schon früher vor Ort\, manchmal auch erst etwas später. \nBesucher sind jederzeit willkommen! Eine kurze Voranmeldung an vorstand@coredump.ch ist hilfreich\, jedoch nicht notwendig. \nEine Wegbeschreibung gibt es auf der Kontakt-Seite.
URL:https://www.coredump.ch/event/weekly-hacknight-272/
LOCATION:Coredump (Eichwiesstrasse)\, Eichwiesstrasse 4\, Rapperswil-Jona\, SG\, 8645\, Switzerland
CATEGORIES:Meetings
END:VEVENT
BEGIN:VEVENT
DTSTART;TZID=Europe/Zurich:20230731T200000
DTEND;TZID=Europe/Zurich:20230731T234500
DTSTAMP:20260425T231803
CREATED:20221002T215700Z
LAST-MODIFIED:20221002T215700Z
UID:3541-1690833600-1690847100@www.coredump.ch
SUMMARY:Weekly Hacknight
DESCRIPTION:Wir treffen uns in der Regel ab etwa 20 Uhr in unserem Vereinsraum um spannende Themen zu diskutieren\, an unseren Projekten zu arbeiten\, oder einfach eine Flasche Club Mate oder ein Bier zu trinken. Manchmal sind Leute schon früher vor Ort\, manchmal auch erst etwas später. \nBesucher sind jederzeit willkommen! Eine kurze Voranmeldung an vorstand@coredump.ch ist hilfreich\, jedoch nicht notwendig. \nEine Wegbeschreibung gibt es auf der Kontakt-Seite.
URL:https://www.coredump.ch/event/weekly-hacknight-273/
LOCATION:Coredump (Eichwiesstrasse)\, Eichwiesstrasse 4\, Rapperswil-Jona\, SG\, 8645\, Switzerland
CATEGORIES:Meetings
END:VEVENT
END:VCALENDAR