BEGIN:VCALENDAR
VERSION:2.0
PRODID:-//Coredump - ECPv6.8.3//NONSGML v1.0//EN
CALSCALE:GREGORIAN
METHOD:PUBLISH
X-WR-CALNAME:Coredump
X-ORIGINAL-URL:https://www.coredump.ch
X-WR-CALDESC:Veranstaltungen für Coredump
REFRESH-INTERVAL;VALUE=DURATION:PT1H
X-Robots-Tag:noindex
X-PUBLISHED-TTL:PT1H
BEGIN:VTIMEZONE
TZID:Europe/Zurich
BEGIN:DAYLIGHT
TZOFFSETFROM:+0100
TZOFFSETTO:+0200
TZNAME:CEST
DTSTART:20230326T010000
END:DAYLIGHT
BEGIN:STANDARD
TZOFFSETFROM:+0200
TZOFFSETTO:+0100
TZNAME:CET
DTSTART:20231029T010000
END:STANDARD
END:VTIMEZONE
BEGIN:VEVENT
DTSTART;TZID=Europe/Zurich:20230807T200000
DTEND;TZID=Europe/Zurich:20230807T234500
DTSTAMP:20260425T215828
CREATED:20221002T215711Z
LAST-MODIFIED:20221002T215711Z
UID:3543-1691438400-1691451900@www.coredump.ch
SUMMARY:Weekly Hacknight
DESCRIPTION:Wir treffen uns in der Regel ab etwa 20 Uhr in unserem Vereinsraum um spannende Themen zu diskutieren\, an unseren Projekten zu arbeiten\, oder einfach eine Flasche Club Mate oder ein Bier zu trinken. Manchmal sind Leute schon früher vor Ort\, manchmal auch erst etwas später. \nBesucher sind jederzeit willkommen! Eine kurze Voranmeldung an vorstand@coredump.ch ist hilfreich\, jedoch nicht notwendig. \nEine Wegbeschreibung gibt es auf der Kontakt-Seite.
URL:https://www.coredump.ch/event/weekly-hacknight-274/
LOCATION:Coredump (Eichwiesstrasse)\, Eichwiesstrasse 4\, Rapperswil-Jona\, SG\, 8645\, Switzerland
CATEGORIES:Meetings
END:VEVENT
BEGIN:VEVENT
DTSTART;TZID=Europe/Zurich:20230814T200000
DTEND;TZID=Europe/Zurich:20230814T234500
DTSTAMP:20260425T215828
CREATED:20221002T215721Z
LAST-MODIFIED:20221002T215721Z
UID:3545-1692043200-1692056700@www.coredump.ch
SUMMARY:Weekly Hacknight
DESCRIPTION:Wir treffen uns in der Regel ab etwa 20 Uhr in unserem Vereinsraum um spannende Themen zu diskutieren\, an unseren Projekten zu arbeiten\, oder einfach eine Flasche Club Mate oder ein Bier zu trinken. Manchmal sind Leute schon früher vor Ort\, manchmal auch erst etwas später. \nBesucher sind jederzeit willkommen! Eine kurze Voranmeldung an vorstand@coredump.ch ist hilfreich\, jedoch nicht notwendig. \nEine Wegbeschreibung gibt es auf der Kontakt-Seite.
URL:https://www.coredump.ch/event/weekly-hacknight-275/
LOCATION:Coredump (Eichwiesstrasse)\, Eichwiesstrasse 4\, Rapperswil-Jona\, SG\, 8645\, Switzerland
CATEGORIES:Meetings
END:VEVENT
BEGIN:VEVENT
DTSTART;TZID=Europe/Zurich:20230821T200000
DTEND;TZID=Europe/Zurich:20230821T234500
DTSTAMP:20260425T215828
CREATED:20221002T215733Z
LAST-MODIFIED:20221002T215733Z
UID:3547-1692648000-1692661500@www.coredump.ch
SUMMARY:Weekly Hacknight
DESCRIPTION:Wir treffen uns in der Regel ab etwa 20 Uhr in unserem Vereinsraum um spannende Themen zu diskutieren\, an unseren Projekten zu arbeiten\, oder einfach eine Flasche Club Mate oder ein Bier zu trinken. Manchmal sind Leute schon früher vor Ort\, manchmal auch erst etwas später. \nBesucher sind jederzeit willkommen! Eine kurze Voranmeldung an vorstand@coredump.ch ist hilfreich\, jedoch nicht notwendig. \nEine Wegbeschreibung gibt es auf der Kontakt-Seite.
URL:https://www.coredump.ch/event/weekly-hacknight-276/
LOCATION:Coredump (Eichwiesstrasse)\, Eichwiesstrasse 4\, Rapperswil-Jona\, SG\, 8645\, Switzerland
CATEGORIES:Meetings
END:VEVENT
BEGIN:VEVENT
DTSTART;TZID=Europe/Zurich:20230828T200000
DTEND;TZID=Europe/Zurich:20230828T234500
DTSTAMP:20260425T215828
CREATED:20221002T215743Z
LAST-MODIFIED:20221002T215743Z
UID:3549-1693252800-1693266300@www.coredump.ch
SUMMARY:Weekly Hacknight
DESCRIPTION:Wir treffen uns in der Regel ab etwa 20 Uhr in unserem Vereinsraum um spannende Themen zu diskutieren\, an unseren Projekten zu arbeiten\, oder einfach eine Flasche Club Mate oder ein Bier zu trinken. Manchmal sind Leute schon früher vor Ort\, manchmal auch erst etwas später. \nBesucher sind jederzeit willkommen! Eine kurze Voranmeldung an vorstand@coredump.ch ist hilfreich\, jedoch nicht notwendig. \nEine Wegbeschreibung gibt es auf der Kontakt-Seite.
URL:https://www.coredump.ch/event/weekly-hacknight-277/
LOCATION:Coredump (Eichwiesstrasse)\, Eichwiesstrasse 4\, Rapperswil-Jona\, SG\, 8645\, Switzerland
CATEGORIES:Meetings
END:VEVENT
END:VCALENDAR