BEGIN:VCALENDAR
VERSION:2.0
PRODID:-//Coredump - ECPv6.8.3//NONSGML v1.0//EN
CALSCALE:GREGORIAN
METHOD:PUBLISH
X-ORIGINAL-URL:https://www.coredump.ch
X-WR-CALDESC:Veranstaltungen für Coredump
REFRESH-INTERVAL;VALUE=DURATION:PT1H
X-Robots-Tag:noindex
X-PUBLISHED-TTL:PT1H
BEGIN:VTIMEZONE
TZID:Europe/Zurich
BEGIN:DAYLIGHT
TZOFFSETFROM:+0100
TZOFFSETTO:+0200
TZNAME:CEST
DTSTART:20230326T010000
END:DAYLIGHT
BEGIN:STANDARD
TZOFFSETFROM:+0200
TZOFFSETTO:+0100
TZNAME:CET
DTSTART:20231029T010000
END:STANDARD
END:VTIMEZONE
BEGIN:VEVENT
DTSTART;TZID=Europe/Zurich:20231002T200000
DTEND;TZID=Europe/Zurich:20231002T234500
DTSTAMP:20260425T192623
CREATED:20221002T215834Z
LAST-MODIFIED:20221002T215834Z
UID:3559-1696276800-1696290300@www.coredump.ch
SUMMARY:Weekly Hacknight
DESCRIPTION:Wir treffen uns in der Regel ab etwa 20 Uhr in unserem Vereinsraum um spannende Themen zu diskutieren\, an unseren Projekten zu arbeiten\, oder einfach eine Flasche Club Mate oder ein Bier zu trinken. Manchmal sind Leute schon früher vor Ort\, manchmal auch erst etwas später. \nBesucher sind jederzeit willkommen! Eine kurze Voranmeldung an vorstand@coredump.ch ist hilfreich\, jedoch nicht notwendig. \nEine Wegbeschreibung gibt es auf der Kontakt-Seite.
URL:https://www.coredump.ch/event/weekly-hacknight-282/
LOCATION:Coredump (Eichwiesstrasse)\, Eichwiesstrasse 4\, Rapperswil-Jona\, SG\, 8645\, Switzerland
CATEGORIES:Meetings
END:VEVENT
BEGIN:VEVENT
DTSTART;TZID=Europe/Zurich:20231009T200000
DTEND;TZID=Europe/Zurich:20231009T234500
DTSTAMP:20260425T192623
CREATED:20221002T215844Z
LAST-MODIFIED:20221002T215844Z
UID:3561-1696881600-1696895100@www.coredump.ch
SUMMARY:Weekly Hacknight
DESCRIPTION:Wir treffen uns in der Regel ab etwa 20 Uhr in unserem Vereinsraum um spannende Themen zu diskutieren\, an unseren Projekten zu arbeiten\, oder einfach eine Flasche Club Mate oder ein Bier zu trinken. Manchmal sind Leute schon früher vor Ort\, manchmal auch erst etwas später. \nBesucher sind jederzeit willkommen! Eine kurze Voranmeldung an vorstand@coredump.ch ist hilfreich\, jedoch nicht notwendig. \nEine Wegbeschreibung gibt es auf der Kontakt-Seite.
URL:https://www.coredump.ch/event/weekly-hacknight-283/
LOCATION:Coredump (Eichwiesstrasse)\, Eichwiesstrasse 4\, Rapperswil-Jona\, SG\, 8645\, Switzerland
CATEGORIES:Meetings
END:VEVENT
BEGIN:VEVENT
DTSTART;TZID=Europe/Zurich:20231016T200000
DTEND;TZID=Europe/Zurich:20231016T234500
DTSTAMP:20260425T192623
CREATED:20221002T215855Z
LAST-MODIFIED:20221002T215855Z
UID:3563-1697486400-1697499900@www.coredump.ch
SUMMARY:Weekly Hacknight
DESCRIPTION:Wir treffen uns in der Regel ab etwa 20 Uhr in unserem Vereinsraum um spannende Themen zu diskutieren\, an unseren Projekten zu arbeiten\, oder einfach eine Flasche Club Mate oder ein Bier zu trinken. Manchmal sind Leute schon früher vor Ort\, manchmal auch erst etwas später. \nBesucher sind jederzeit willkommen! Eine kurze Voranmeldung an vorstand@coredump.ch ist hilfreich\, jedoch nicht notwendig. \nEine Wegbeschreibung gibt es auf der Kontakt-Seite.
URL:https://www.coredump.ch/event/weekly-hacknight-284/
LOCATION:Coredump (Eichwiesstrasse)\, Eichwiesstrasse 4\, Rapperswil-Jona\, SG\, 8645\, Switzerland
CATEGORIES:Meetings
END:VEVENT
BEGIN:VEVENT
DTSTART;TZID=Europe/Zurich:20231023T200000
DTEND;TZID=Europe/Zurich:20231023T234500
DTSTAMP:20260425T192623
CREATED:20221002T215905Z
LAST-MODIFIED:20221002T215905Z
UID:3565-1698091200-1698104700@www.coredump.ch
SUMMARY:Weekly Hacknight
DESCRIPTION:Wir treffen uns in der Regel ab etwa 20 Uhr in unserem Vereinsraum um spannende Themen zu diskutieren\, an unseren Projekten zu arbeiten\, oder einfach eine Flasche Club Mate oder ein Bier zu trinken. Manchmal sind Leute schon früher vor Ort\, manchmal auch erst etwas später. \nBesucher sind jederzeit willkommen! Eine kurze Voranmeldung an vorstand@coredump.ch ist hilfreich\, jedoch nicht notwendig. \nEine Wegbeschreibung gibt es auf der Kontakt-Seite.
URL:https://www.coredump.ch/event/weekly-hacknight-285/
LOCATION:Coredump (Eichwiesstrasse)\, Eichwiesstrasse 4\, Rapperswil-Jona\, SG\, 8645\, Switzerland
CATEGORIES:Meetings
END:VEVENT
BEGIN:VEVENT
DTSTART;TZID=Europe/Zurich:20231030T200000
DTEND;TZID=Europe/Zurich:20231030T234500
DTSTAMP:20260425T192623
CREATED:20221002T215915Z
LAST-MODIFIED:20221002T215915Z
UID:3567-1698696000-1698709500@www.coredump.ch
SUMMARY:Weekly Hacknight
DESCRIPTION:Wir treffen uns in der Regel ab etwa 20 Uhr in unserem Vereinsraum um spannende Themen zu diskutieren\, an unseren Projekten zu arbeiten\, oder einfach eine Flasche Club Mate oder ein Bier zu trinken. Manchmal sind Leute schon früher vor Ort\, manchmal auch erst etwas später. \nBesucher sind jederzeit willkommen! Eine kurze Voranmeldung an vorstand@coredump.ch ist hilfreich\, jedoch nicht notwendig. \nEine Wegbeschreibung gibt es auf der Kontakt-Seite.
URL:https://www.coredump.ch/event/weekly-hacknight-286/
LOCATION:Coredump (Eichwiesstrasse)\, Eichwiesstrasse 4\, Rapperswil-Jona\, SG\, 8645\, Switzerland
CATEGORIES:Meetings
END:VEVENT
END:VCALENDAR