BEGIN:VCALENDAR
VERSION:2.0
PRODID:-//Coredump - ECPv6.8.3//NONSGML v1.0//EN
CALSCALE:GREGORIAN
METHOD:PUBLISH
X-ORIGINAL-URL:https://www.coredump.ch
X-WR-CALDESC:Veranstaltungen für Coredump
REFRESH-INTERVAL;VALUE=DURATION:PT1H
X-Robots-Tag:noindex
X-PUBLISHED-TTL:PT1H
BEGIN:VTIMEZONE
TZID:Europe/Zurich
BEGIN:DAYLIGHT
TZOFFSETFROM:+0100
TZOFFSETTO:+0200
TZNAME:CEST
DTSTART:20250330T010000
END:DAYLIGHT
BEGIN:STANDARD
TZOFFSETFROM:+0200
TZOFFSETTO:+0100
TZNAME:CET
DTSTART:20251026T010000
END:STANDARD
END:VTIMEZONE
BEGIN:VEVENT
DTSTART;TZID=Europe/Zurich:20250707T200000
DTEND;TZID=Europe/Zurich:20250707T234500
DTSTAMP:20260424T143732
CREATED:20240707T171351Z
LAST-MODIFIED:20250113T183942Z
UID:4175-1751918400-1751931900@www.coredump.ch
SUMMARY:Weekly Hacknight
DESCRIPTION:Wir treffen uns in der Regel ab etwa 20 Uhr in unserem Vereinsraum um spannende Themen zu diskutieren\, an unseren Projekten zu arbeiten\, oder einfach eine Flasche Club Mate oder ein Bier zu trinken. Manchmal sind Leute schon früher vor Ort\, manchmal auch erst etwas später. \nBesucher sind jederzeit willkommen! Eine kurze Voranmeldung an vorstand@coredump.ch ist hilfreich\, jedoch nicht notwendig. \nEine Wegbeschreibung gibt es auf der Kontakt-Seite.
URL:https://www.coredump.ch/event/weekly-hacknight-374/
LOCATION:Coredump (Eichwiesstrasse)\, Eichwiesstrasse 4\, Rapperswil-Jona\, SG\, 8645\, Switzerland
CATEGORIES:Meetings
END:VEVENT
BEGIN:VEVENT
DTSTART;TZID=Europe/Zurich:20250714T200000
DTEND;TZID=Europe/Zurich:20250714T234500
DTSTAMP:20260424T143732
CREATED:20240707T171357Z
LAST-MODIFIED:20250113T183946Z
UID:4177-1752523200-1752536700@www.coredump.ch
SUMMARY:Weekly Hacknight
DESCRIPTION:Wir treffen uns in der Regel ab etwa 20 Uhr in unserem Vereinsraum um spannende Themen zu diskutieren\, an unseren Projekten zu arbeiten\, oder einfach eine Flasche Club Mate oder ein Bier zu trinken. Manchmal sind Leute schon früher vor Ort\, manchmal auch erst etwas später. \nBesucher sind jederzeit willkommen! Eine kurze Voranmeldung an vorstand@coredump.ch ist hilfreich\, jedoch nicht notwendig. \nEine Wegbeschreibung gibt es auf der Kontakt-Seite.
URL:https://www.coredump.ch/event/weekly-hacknight-375/
LOCATION:Coredump (Eichwiesstrasse)\, Eichwiesstrasse 4\, Rapperswil-Jona\, SG\, 8645\, Switzerland
CATEGORIES:Meetings
END:VEVENT
BEGIN:VEVENT
DTSTART;TZID=Europe/Zurich:20250721T200000
DTEND;TZID=Europe/Zurich:20250721T234500
DTSTAMP:20260424T143732
CREATED:20240707T171404Z
LAST-MODIFIED:20250113T184003Z
UID:4179-1753128000-1753141500@www.coredump.ch
SUMMARY:Weekly Hacknight
DESCRIPTION:Wir treffen uns in der Regel ab etwa 20 Uhr in unserem Vereinsraum um spannende Themen zu diskutieren\, an unseren Projekten zu arbeiten\, oder einfach eine Flasche Club Mate oder ein Bier zu trinken. Manchmal sind Leute schon früher vor Ort\, manchmal auch erst etwas später. \nBesucher sind jederzeit willkommen! Eine kurze Voranmeldung an vorstand@coredump.ch ist hilfreich\, jedoch nicht notwendig. \nEine Wegbeschreibung gibt es auf der Kontakt-Seite.
URL:https://www.coredump.ch/event/weekly-hacknight-376/
LOCATION:Coredump (Eichwiesstrasse)\, Eichwiesstrasse 4\, Rapperswil-Jona\, SG\, 8645\, Switzerland
CATEGORIES:Meetings
END:VEVENT
BEGIN:VEVENT
DTSTART;TZID=Europe/Zurich:20250728T200000
DTEND;TZID=Europe/Zurich:20250728T234500
DTSTAMP:20260424T143732
CREATED:20240707T171411Z
LAST-MODIFIED:20250113T184013Z
UID:4181-1753732800-1753746300@www.coredump.ch
SUMMARY:Weekly Hacknight
DESCRIPTION:Wir treffen uns in der Regel ab etwa 20 Uhr in unserem Vereinsraum um spannende Themen zu diskutieren\, an unseren Projekten zu arbeiten\, oder einfach eine Flasche Club Mate oder ein Bier zu trinken. Manchmal sind Leute schon früher vor Ort\, manchmal auch erst etwas später. \nBesucher sind jederzeit willkommen! Eine kurze Voranmeldung an vorstand@coredump.ch ist hilfreich\, jedoch nicht notwendig. \nEine Wegbeschreibung gibt es auf der Kontakt-Seite.
URL:https://www.coredump.ch/event/weekly-hacknight-377/
LOCATION:Coredump (Eichwiesstrasse)\, Eichwiesstrasse 4\, Rapperswil-Jona\, SG\, 8645\, Switzerland
CATEGORIES:Meetings
END:VEVENT
END:VCALENDAR