BEGIN:VCALENDAR
VERSION:2.0
PRODID:-//Coredump - ECPv6.8.3//NONSGML v1.0//EN
CALSCALE:GREGORIAN
METHOD:PUBLISH
X-WR-CALNAME:Coredump
X-ORIGINAL-URL:https://www.coredump.ch
X-WR-CALDESC:Veranstaltungen für Coredump
REFRESH-INTERVAL;VALUE=DURATION:PT1H
X-Robots-Tag:noindex
X-PUBLISHED-TTL:PT1H
BEGIN:VTIMEZONE
TZID:Europe/Zurich
BEGIN:DAYLIGHT
TZOFFSETFROM:+0100
TZOFFSETTO:+0200
TZNAME:CEST
DTSTART:20240331T010000
END:DAYLIGHT
BEGIN:STANDARD
TZOFFSETFROM:+0200
TZOFFSETTO:+0100
TZNAME:CET
DTSTART:20241027T010000
END:STANDARD
END:VTIMEZONE
BEGIN:VEVENT
DTSTART;TZID=Europe/Zurich:20240914T100000
DTEND;TZID=Europe/Zurich:20240914T150000
DTSTAMP:20260425T125257
CREATED:20240707T170417Z
LAST-MODIFIED:20240707T170417Z
UID:4118-1726308000-1726326000@www.coredump.ch
SUMMARY:4. Repair Café Rapperswil
DESCRIPTION:Das Repair Café Rapperswil-Jona findet im Zeughaus-Areal und im Coredump statt. Die Anmeldung ist beim Zeughaus-Areal. \nMehr Infos: https://www.repair-cafe.ch/repairevent/4-repair-cafe-2/?date=14.09.2024 \nRückblick 1. Repair Café: https://www.coredump.ch/2024/02/26/rueckblick-1-repair-cafe-rapperswil-jona/
URL:https://www.coredump.ch/event/4-repair-cafe-rapperswil/
LOCATION:Zeughaus-Areal\, Schönbodenstr. 3\, Rapperswil\, SG\, 8640\, Switzerland
CATEGORIES:Repair Café
END:VEVENT
END:VCALENDAR